BEGIN:VCALENDAR
VERSION:2.0
PRODID:-//Foment Esports - ECPv6.15.19//NONSGML v1.0//EN
CALSCALE:GREGORIAN
METHOD:PUBLISH
X-WR-CALNAME:Foment Esports
X-ORIGINAL-URL:https://fomentesports.com
X-WR-CALDESC:Esdeveniments per Foment Esports
REFRESH-INTERVAL;VALUE=DURATION:PT1H
X-Robots-Tag:noindex
X-PUBLISHED-TTL:PT1H
BEGIN:VTIMEZONE
TZID:Europe/Madrid
BEGIN:DAYLIGHT
TZOFFSETFROM:+0100
TZOFFSETTO:+0200
TZNAME:CEST
DTSTART:20250330T010000
END:DAYLIGHT
BEGIN:STANDARD
TZOFFSETFROM:+0200
TZOFFSETTO:+0100
TZNAME:CET
DTSTART:20251026T010000
END:STANDARD
BEGIN:DAYLIGHT
TZOFFSETFROM:+0100
TZOFFSETTO:+0200
TZNAME:CEST
DTSTART:20260329T010000
END:DAYLIGHT
BEGIN:STANDARD
TZOFFSETFROM:+0200
TZOFFSETTO:+0100
TZNAME:CET
DTSTART:20261025T010000
END:STANDARD
BEGIN:DAYLIGHT
TZOFFSETFROM:+0100
TZOFFSETTO:+0200
TZNAME:CEST
DTSTART:20270328T010000
END:DAYLIGHT
BEGIN:STANDARD
TZOFFSETFROM:+0200
TZOFFSETTO:+0100
TZNAME:CET
DTSTART:20271031T010000
END:STANDARD
END:VTIMEZONE
BEGIN:VEVENT
DTSTART;TZID=Europe/Madrid:20260629T080000
DTEND;TZID=Europe/Madrid:20260904T150000
DTSTAMP:20260420T134755
CREATED:20260323T145307Z
LAST-MODIFIED:20260323T145307Z
UID:33727-1782720000-1788534000@fomentesports.com
SUMMARY:Casal d'Estiu\, fins al 4 de setembre
DESCRIPTION:El Casal d’Estiu del Foment 2026 obre les portes del 29 de juny fins al 4 de setembre. Enguany\, amb una nova aventura: “Un Casal d’una altra Galàxia”\, on els nens i nenes es convertiran en veritables exploradors espacials. \nAl casal es realitzen activitats que ajudin als infants a deixar anar la seva imaginació i creativitat i meravellar-se dels secrets amagats de la nostra Galàxia. Amb valors afegits com la importància de preservar i cuidar la natura i respectar el nostre planeta. \nEls infants descobreixen i s’endinsen en un món ple d’aventures amb sessions temàtiques com l’entrenament d’astronautes\, un viatge a través dels diferents planetes\, la gran missió espacial i els Jocs olímpics galàctics\, entre d’altres. \nUna proposta basada en fomentar la seva creativitat\, el joc i l’esport com a estratègia metodològica\, amb setmanes plenes d’energia\, diversió i aprenentatge. \nCom cada any\, a més de les activitats esportives\, jocs\, tallers o manualitats (enguany hi afegim un scape room) també descobreixen l´entorn més proper\, a peu o amb bicicleta\, fan una acampada temàtica i gaudeixen d’una excursió amb autocar. \nEl casal va dirigit a infants de 3 anys (P3 cursat) fins a 14 anys. Ens organitzarem en tres grups: Mini Casalet\, Casalet i Casal Esportiu i Juvenil\, amb totes les activitats adaptades a les edats dels participants. \nTROBAREU TOTA LA INFORMACIÓ DEL CASAL D’ESTIU ACTUALITZADA A LA SECCIÓ D’ACTIVITATS\, EN AQUEST ENLLAÇ
URL:https://fomentesports.com/activitat/casal-destiu-fins-al-4-de-setembre/
CATEGORIES:Altres activitats
ATTACH;FMTTYPE=image/jpeg:https://fomentesports.com/wp-content/uploads/2026/03/Un-casal-duna-altra-galaxia-quadrat.jpg
END:VEVENT
END:VCALENDAR