BEGIN:VCALENDAR
VERSION:2.0
PRODID:-//Foment Esports - ECPv6.15.19//NONSGML v1.0//EN
CALSCALE:GREGORIAN
METHOD:PUBLISH
X-WR-CALNAME:Foment Esports
X-ORIGINAL-URL:https://fomentesports.com
X-WR-CALDESC:Esdeveniments per Foment Esports
REFRESH-INTERVAL;VALUE=DURATION:PT1H
X-Robots-Tag:noindex
X-PUBLISHED-TTL:PT1H
BEGIN:VTIMEZONE
TZID:Europe/Madrid
BEGIN:DAYLIGHT
TZOFFSETFROM:+0100
TZOFFSETTO:+0200
TZNAME:CEST
DTSTART:20250330T010000
END:DAYLIGHT
BEGIN:STANDARD
TZOFFSETFROM:+0200
TZOFFSETTO:+0100
TZNAME:CET
DTSTART:20251026T010000
END:STANDARD
BEGIN:DAYLIGHT
TZOFFSETFROM:+0100
TZOFFSETTO:+0200
TZNAME:CEST
DTSTART:20260329T010000
END:DAYLIGHT
BEGIN:STANDARD
TZOFFSETFROM:+0200
TZOFFSETTO:+0100
TZNAME:CET
DTSTART:20261025T010000
END:STANDARD
BEGIN:DAYLIGHT
TZOFFSETFROM:+0100
TZOFFSETTO:+0200
TZNAME:CEST
DTSTART:20270328T010000
END:DAYLIGHT
BEGIN:STANDARD
TZOFFSETFROM:+0200
TZOFFSETTO:+0100
TZNAME:CET
DTSTART:20271031T010000
END:STANDARD
END:VTIMEZONE
BEGIN:VEVENT
DTSTART;TZID=Europe/Madrid:20260328T000000
DTEND;TZID=Europe/Madrid:20260329T235900
DTSTAMP:20260421T173113
CREATED:20260218T151533Z
LAST-MODIFIED:20260218T151533Z
UID:33489-1774656000-1774828740@fomentesports.com
SUMMARY:Fase final lliga comarcal de tennis\, 5a jornada
DESCRIPTION:La Lliga comarcal de tennis 2025-2026 es va iniciar el 27 de setembre i s’allargarà fins al mes de juny de 2026. El Foment d’Esports hi participa amb 3 equips: \n\n2 equips a Primera Divisió\n1 equip a Segona Divisió\n\nEls partits se solen disputar el dissabte el matí i a la tarda\, i alguns també el diumenge al matí. \nPODEU CONSULTAR ELS HORARIS I RESULTATS DE TOTS ELS PARTITS EN AQUEST ENLLAÇ
URL:https://fomentesports.com/activitat/fase-final-lliga-comarcal-de-tennis-5a-jornada/
CATEGORIES:Activitats Tennis
ATTACH;FMTTYPE=image/jpeg:https://fomentesports.com/wp-content/uploads/2025/09/temporada-2025-26.jpg
END:VEVENT
END:VCALENDAR