BEGIN:VCALENDAR
VERSION:2.0
PRODID:-//Foment Esports - ECPv6.15.19//NONSGML v1.0//EN
CALSCALE:GREGORIAN
METHOD:PUBLISH
X-WR-CALNAME:Foment Esports
X-ORIGINAL-URL:https://fomentesports.com
X-WR-CALDESC:Esdeveniments per Foment Esports
REFRESH-INTERVAL;VALUE=DURATION:PT1H
X-Robots-Tag:noindex
X-PUBLISHED-TTL:PT1H
BEGIN:VTIMEZONE
TZID:Europe/Madrid
BEGIN:DAYLIGHT
TZOFFSETFROM:+0100
TZOFFSETTO:+0200
TZNAME:CEST
DTSTART:20250330T010000
END:DAYLIGHT
BEGIN:STANDARD
TZOFFSETFROM:+0200
TZOFFSETTO:+0100
TZNAME:CET
DTSTART:20251026T010000
END:STANDARD
BEGIN:DAYLIGHT
TZOFFSETFROM:+0100
TZOFFSETTO:+0200
TZNAME:CEST
DTSTART:20260329T010000
END:DAYLIGHT
BEGIN:STANDARD
TZOFFSETFROM:+0200
TZOFFSETTO:+0100
TZNAME:CET
DTSTART:20261025T010000
END:STANDARD
BEGIN:DAYLIGHT
TZOFFSETFROM:+0100
TZOFFSETTO:+0200
TZNAME:CEST
DTSTART:20270328T010000
END:DAYLIGHT
BEGIN:STANDARD
TZOFFSETFROM:+0200
TZOFFSETTO:+0100
TZNAME:CET
DTSTART:20271031T010000
END:STANDARD
END:VTIMEZONE
BEGIN:VEVENT
DTSTART;TZID=Europe/Madrid:20260228T000000
DTEND;TZID=Europe/Madrid:20260301T235900
DTSTAMP:20260418T223005
CREATED:20260218T151202Z
LAST-MODIFIED:20260218T151202Z
UID:33483-1772236800-1772409540@fomentesports.com
SUMMARY:Fase final lliga comarcal de tennis\, 2a jornada
DESCRIPTION:La Lliga comarcal de tennis 2025-2026 es va iniciar el 27 de setembre i s’allargarà fins al mes de juny de 2026. El Foment d’Esports hi participa amb 3 equips: \n\n2 equips a Primera Divisió\n1 equip a Segona Divisió\n\nEls partits se solen disputar el dissabte el matí i a la tarda\, i alguns també el diumenge al matí. \nPODEU CONSULTAR ELS HORARIS I RESULTATS DE TOTS ELS PARTITS EN AQUEST ENLLAÇ
URL:https://fomentesports.com/activitat/fase-final-lliga-comarcal-de-tennis-2a-jornada/
CATEGORIES:Activitats Tennis
ATTACH;FMTTYPE=image/jpeg:https://fomentesports.com/wp-content/uploads/2025/09/temporada-2025-26.jpg
END:VEVENT
BEGIN:VEVENT
DTSTART;TZID=Europe/Madrid:20260307T000000
DTEND;TZID=Europe/Madrid:20260308T235900
DTSTAMP:20260418T223005
CREATED:20260218T151332Z
LAST-MODIFIED:20260218T151332Z
UID:33485-1772841600-1773014340@fomentesports.com
SUMMARY:Fase final lliga comarcal de tennis\, 3a jornada
DESCRIPTION:La Lliga comarcal de tennis 2025-2026 es va iniciar el 27 de setembre i s’allargarà fins al mes de juny de 2026. El Foment d’Esports hi participa amb 3 equips: \n\n2 equips a Primera Divisió\n1 equip a Segona Divisió\n\nEls partits se solen disputar el dissabte el matí i a la tarda\, i alguns també el diumenge al matí. \nPODEU CONSULTAR ELS HORARIS I RESULTATS DE TOTS ELS PARTITS EN AQUEST ENLLAÇ
URL:https://fomentesports.com/activitat/fase-final-lliga-comarcal-de-tennis-3a-jornada/
CATEGORIES:Activitats Tennis
ATTACH;FMTTYPE=image/jpeg:https://fomentesports.com/wp-content/uploads/2025/09/temporada-2025-26.jpg
END:VEVENT
BEGIN:VEVENT
DTSTART;VALUE=DATE:20260308
DTEND;VALUE=DATE:20260309
DTSTAMP:20260418T223005
CREATED:20260218T172856Z
LAST-MODIFIED:20260218T172856Z
UID:33511-1772928000-1773014399@fomentesports.com
SUMMARY:Lliga catalana de tennis\, júnior f
DESCRIPTION:La Lliga catalana de tennis 2025-2026 es disputa del 18 d’octubre al 14 de juny. El Foment d’Esports hi participa amb 3 equips: \n\nJúnior masculí\nJúnior femení\nCadet masculí\n\nEls partits es disputen el cap de setmana. Podeu consultar els horaris\, dies de partit i resultats al web de la Federació Catalana de Tennis\, a l’enllaç que us passem a sota\, que engloba totes les categories d’aquesta competició. Per arribar a cada un dels nostres equips heu de seguir el següent recorregut: \n\nJúnior masculí: partits / partits / júnior masc (a proves) / Vallès (zones) / Divisió 3 (grups)\nJúnior femení: partits / partits / júnior fem (a proves) / Osona Vallès (zones) / Divisió 2 (grups)\nCadet masculí: partits / partits / cadet masc (a proves) / Osona Maresme (zones) / Divisió 4 (grups)\n\nPODEU CONSULTAR ELS HORARIS\, DATES I RESULTATS DE TOTS ELS PARTITS EN AQUEST ENLLAÇ
URL:https://fomentesports.com/activitat/lliga-catalana-de-tennis-junior-f-4/
CATEGORIES:Activitats Tennis
ATTACH;FMTTYPE=image/png:https://fomentesports.com/wp-content/uploads/2025/10/logo-lliga-catalana-de-tennis-mitja.png
END:VEVENT
BEGIN:VEVENT
DTSTART;TZID=Europe/Madrid:20260314T000000
DTEND;TZID=Europe/Madrid:20260315T235900
DTSTAMP:20260418T223005
CREATED:20260218T151432Z
LAST-MODIFIED:20260218T151432Z
UID:33487-1773446400-1773619140@fomentesports.com
SUMMARY:Fase final lliga comarcal de tennis\, 4a jornada
DESCRIPTION:La Lliga comarcal de tennis 2025-2026 es va iniciar el 27 de setembre i s’allargarà fins al mes de juny de 2026. El Foment d’Esports hi participa amb 3 equips: \n\n2 equips a Primera Divisió\n1 equip a Segona Divisió\n\nEls partits se solen disputar el dissabte el matí i a la tarda\, i alguns també el diumenge al matí. \nPODEU CONSULTAR ELS HORARIS I RESULTATS DE TOTS ELS PARTITS EN AQUEST ENLLAÇ
URL:https://fomentesports.com/activitat/fase-final-lliga-comarcal-de-tennis-4a-jornada/
CATEGORIES:Activitats Tennis
ATTACH;FMTTYPE=image/jpeg:https://fomentesports.com/wp-content/uploads/2025/09/temporada-2025-26.jpg
END:VEVENT
BEGIN:VEVENT
DTSTART;VALUE=DATE:20260314
DTEND;VALUE=DATE:20260315
DTSTAMP:20260418T223005
CREATED:20260218T172818Z
LAST-MODIFIED:20260218T172818Z
UID:33509-1773446400-1773532799@fomentesports.com
SUMMARY:Lliga catalana de tennis\, cadet m
DESCRIPTION:La Lliga catalana de tennis 2025-2026 es disputa del 18 d’octubre al 14 de juny. El Foment d’Esports hi participa amb 3 equips: \n\nJúnior masculí\nJúnior femení\nCadet masculí\n\nEls partits es disputen el cap de setmana. Podeu consultar els horaris\, dies de partit i resultats al web de la Federació Catalana de Tennis\, a l’enllaç que us passem a sota\, que engloba totes les categories d’aquesta competició. Per arribar a cada un dels nostres equips heu de seguir el següent recorregut: \n\nJúnior masculí: partits / partits / júnior masc (a proves) / Vallès (zones) / Divisió 3 (grups)\nJúnior femení: partits / partits / júnior fem (a proves) / Osona Vallès (zones) / Divisió 2 (grups)\nCadet masculí: partits / partits / cadet masc (a proves) / Osona Maresme (zones) / Divisió 4 (grups)\n\nPODEU CONSULTAR ELS HORARIS\, DATES I RESULTATS DE TOTS ELS PARTITS EN AQUEST ENLLAÇ
URL:https://fomentesports.com/activitat/lliga-catalana-de-tennis-cadet-m-8/
CATEGORIES:Activitats Tennis
ATTACH;FMTTYPE=image/png:https://fomentesports.com/wp-content/uploads/2025/10/logo-lliga-catalana-de-tennis-mitja.png
END:VEVENT
BEGIN:VEVENT
DTSTART;VALUE=DATE:20260321
DTEND;VALUE=DATE:20260322
DTSTAMP:20260418T223005
CREATED:20260218T172730Z
LAST-MODIFIED:20260218T172730Z
UID:33507-1774051200-1774137599@fomentesports.com
SUMMARY:Lliga catalana de tennis\, cadet m i júnior f
DESCRIPTION:La Lliga catalana de tennis 2025-2026 es disputa del 18 d’octubre al 14 de juny. El Foment d’Esports hi participa amb 3 equips: \n\nJúnior masculí\nJúnior femení\nCadet masculí\n\nEls partits es disputen el cap de setmana. Podeu consultar els horaris\, dies de partit i resultats al web de la Federació Catalana de Tennis\, a l’enllaç que us passem a sota\, que engloba totes les categories d’aquesta competició. Per arribar a cada un dels nostres equips heu de seguir el següent recorregut: \n\nJúnior masculí: partits / partits / júnior masc (a proves) / Vallès (zones) / Divisió 3 (grups)\nJúnior femení: partits / partits / júnior fem (a proves) / Osona Vallès (zones) / Divisió 2 (grups)\nCadet masculí: partits / partits / cadet masc (a proves) / Osona Maresme (zones) / Divisió 4 (grups)\n\nPODEU CONSULTAR ELS HORARIS\, DATES I RESULTATS DE TOTS ELS PARTITS EN AQUEST ENLLAÇ
URL:https://fomentesports.com/activitat/lliga-catalana-de-tennis-cadet-m-i-junior-f/
CATEGORIES:Activitats Tennis
ATTACH;FMTTYPE=image/png:https://fomentesports.com/wp-content/uploads/2025/10/logo-lliga-catalana-de-tennis-mitja.png
END:VEVENT
BEGIN:VEVENT
DTSTART;VALUE=DATE:20260322
DTEND;VALUE=DATE:20260323
DTSTAMP:20260418T223005
CREATED:20260218T172940Z
LAST-MODIFIED:20260218T172940Z
UID:33513-1774137600-1774223999@fomentesports.com
SUMMARY:Lliga catalana de tennis\, júnior f
DESCRIPTION:La Lliga catalana de tennis 2025-2026 es disputa del 18 d’octubre al 14 de juny. El Foment d’Esports hi participa amb 3 equips: \n\nJúnior masculí\nJúnior femení\nCadet masculí\n\nEls partits es disputen el cap de setmana. Podeu consultar els horaris\, dies de partit i resultats al web de la Federació Catalana de Tennis\, a l’enllaç que us passem a sota\, que engloba totes les categories d’aquesta competició. Per arribar a cada un dels nostres equips heu de seguir el següent recorregut: \n\nJúnior masculí: partits / partits / júnior masc (a proves) / Vallès (zones) / Divisió 3 (grups)\nJúnior femení: partits / partits / júnior fem (a proves) / Osona Vallès (zones) / Divisió 2 (grups)\nCadet masculí: partits / partits / cadet masc (a proves) / Osona Maresme (zones) / Divisió 4 (grups)\n\nPODEU CONSULTAR ELS HORARIS\, DATES I RESULTATS DE TOTS ELS PARTITS EN AQUEST ENLLAÇ
URL:https://fomentesports.com/activitat/lliga-catalana-de-tennis-junior-f-5/
CATEGORIES:Activitats Tennis
ATTACH;FMTTYPE=image/png:https://fomentesports.com/wp-content/uploads/2025/10/logo-lliga-catalana-de-tennis-mitja.png
END:VEVENT
BEGIN:VEVENT
DTSTART;TZID=Europe/Madrid:20260328T000000
DTEND;TZID=Europe/Madrid:20260329T235900
DTSTAMP:20260418T223005
CREATED:20260218T151533Z
LAST-MODIFIED:20260218T151533Z
UID:33489-1774656000-1774828740@fomentesports.com
SUMMARY:Fase final lliga comarcal de tennis\, 5a jornada
DESCRIPTION:La Lliga comarcal de tennis 2025-2026 es va iniciar el 27 de setembre i s’allargarà fins al mes de juny de 2026. El Foment d’Esports hi participa amb 3 equips: \n\n2 equips a Primera Divisió\n1 equip a Segona Divisió\n\nEls partits se solen disputar el dissabte el matí i a la tarda\, i alguns també el diumenge al matí. \nPODEU CONSULTAR ELS HORARIS I RESULTATS DE TOTS ELS PARTITS EN AQUEST ENLLAÇ
URL:https://fomentesports.com/activitat/fase-final-lliga-comarcal-de-tennis-5a-jornada/
CATEGORIES:Activitats Tennis
ATTACH;FMTTYPE=image/jpeg:https://fomentesports.com/wp-content/uploads/2025/09/temporada-2025-26.jpg
END:VEVENT
END:VCALENDAR